BEGIN:VCALENDAR
VERSION:2.0
PRODID:-//Hogar Navarro Bilbao / Nafarren Etxea - ECPv6.15.20//NONSGML v1.0//EN
CALSCALE:GREGORIAN
METHOD:PUBLISH
X-WR-CALNAME:Hogar Navarro Bilbao / Nafarren Etxea
X-ORIGINAL-URL:https://hogarnavarrobilbao.eus
X-WR-CALDESC:Eventos para Hogar Navarro Bilbao / Nafarren Etxea
REFRESH-INTERVAL;VALUE=DURATION:PT1H
X-Robots-Tag:noindex
X-PUBLISHED-TTL:PT1H
BEGIN:VTIMEZONE
TZID:Europe/Madrid
BEGIN:DAYLIGHT
TZOFFSETFROM:+0100
TZOFFSETTO:+0200
TZNAME:CEST
DTSTART:20250330T010000
END:DAYLIGHT
BEGIN:STANDARD
TZOFFSETFROM:+0200
TZOFFSETTO:+0100
TZNAME:CET
DTSTART:20251026T010000
END:STANDARD
BEGIN:DAYLIGHT
TZOFFSETFROM:+0100
TZOFFSETTO:+0200
TZNAME:CEST
DTSTART:20260329T010000
END:DAYLIGHT
BEGIN:STANDARD
TZOFFSETFROM:+0200
TZOFFSETTO:+0100
TZNAME:CET
DTSTART:20261025T010000
END:STANDARD
BEGIN:DAYLIGHT
TZOFFSETFROM:+0100
TZOFFSETTO:+0200
TZNAME:CEST
DTSTART:20270328T010000
END:DAYLIGHT
BEGIN:STANDARD
TZOFFSETFROM:+0200
TZOFFSETTO:+0100
TZNAME:CET
DTSTART:20271031T010000
END:STANDARD
END:VTIMEZONE
BEGIN:VEVENT
DTSTART;TZID=Europe/Madrid:20260331T200000
DTEND;TZID=Europe/Madrid:20260331T210000
DTSTAMP:20260420T185335
CREATED:20260202T200840Z
LAST-MODIFIED:20260319T192553Z
UID:1247-1774987200-1774990800@hogarnavarrobilbao.eus
SUMMARY:Clase de baile. Lindy Hop
DESCRIPTION:
URL:https://hogarnavarrobilbao.eus/event/clase-de-baile-lindy-hop/
LOCATION:Hogar Navarro Bilbao\, Plaza Nueva 5\, 2º D\, Bilbao\, 48005
ATTACH;FMTTYPE=image/jpeg:https://hogarnavarrobilbao.eus/wp-content/uploads/2026/02/clase-lindy-hop.jpeg
END:VEVENT
END:VCALENDAR