BEGIN:VCALENDAR
VERSION:2.0
PRODID:-//Hogar Navarro Bilbao / Nafarren Etxea - ECPv6.15.20//NONSGML v1.0//EN
CALSCALE:GREGORIAN
METHOD:PUBLISH
X-WR-CALNAME:Hogar Navarro Bilbao / Nafarren Etxea
X-ORIGINAL-URL:https://hogarnavarrobilbao.eus
X-WR-CALDESC:Eventos para Hogar Navarro Bilbao / Nafarren Etxea
REFRESH-INTERVAL;VALUE=DURATION:PT1H
X-Robots-Tag:noindex
X-PUBLISHED-TTL:PT1H
BEGIN:VTIMEZONE
TZID:Europe/Madrid
BEGIN:DAYLIGHT
TZOFFSETFROM:+0100
TZOFFSETTO:+0200
TZNAME:CEST
DTSTART:20250330T010000
END:DAYLIGHT
BEGIN:STANDARD
TZOFFSETFROM:+0200
TZOFFSETTO:+0100
TZNAME:CET
DTSTART:20251026T010000
END:STANDARD
BEGIN:DAYLIGHT
TZOFFSETFROM:+0100
TZOFFSETTO:+0200
TZNAME:CEST
DTSTART:20260329T010000
END:DAYLIGHT
BEGIN:STANDARD
TZOFFSETFROM:+0200
TZOFFSETTO:+0100
TZNAME:CET
DTSTART:20261025T010000
END:STANDARD
BEGIN:DAYLIGHT
TZOFFSETFROM:+0100
TZOFFSETTO:+0200
TZNAME:CEST
DTSTART:20270328T010000
END:DAYLIGHT
BEGIN:STANDARD
TZOFFSETFROM:+0200
TZOFFSETTO:+0100
TZNAME:CET
DTSTART:20271031T010000
END:STANDARD
END:VTIMEZONE
BEGIN:VEVENT
DTSTART;TZID=Europe/Madrid:20260420T080000
DTEND;TZID=Europe/Madrid:20260420T170000
DTSTAMP:20260420T171149
CREATED:20260420T095656Z
LAST-MODIFIED:20260420T100212Z
UID:1490-1776672000-1776704400@hogarnavarrobilbao.eus
SUMMARY:TEATRO EN EL HOGAR NAVARRO
DESCRIPTION:EN FECHA PROXIMA EL GRUPO AMETS BETE  FORMADO POR MONTSE IGLESIAS E IÑAKI QUINTANA  NOS OFRECERAN LA OBRA DE TEATRO DE DARIO FO \nPAREJA ABIERTA \n 
URL:https://hogarnavarrobilbao.eus/event/teatro-en-el-hogar-navarro/
END:VEVENT
END:VCALENDAR